BEGIN:VCALENDAR
VERSION:2.0
PRODID:-//Westport - ECPv6.15.20//NONSGML v1.0//EN
CALSCALE:GREGORIAN
METHOD:PUBLISH
X-WR-CALNAME:Westport
X-ORIGINAL-URL:https://communityexplore.com/westportontario
X-WR-CALDESC:Events for Westport
REFRESH-INTERVAL;VALUE=DURATION:PT1H
X-Robots-Tag:noindex
X-PUBLISHED-TTL:PT1H
BEGIN:VTIMEZONE
TZID:UTC
BEGIN:STANDARD
TZOFFSETFROM:+0000
TZOFFSETTO:+0000
TZNAME:UTC
DTSTART:20250101T000000
END:STANDARD
END:VTIMEZONE
BEGIN:VEVENT
DTSTART;TZID=UTC:20260302T080000
DTEND;TZID=UTC:20260302T170000
DTSTAMP:20260419T233331
CREATED:20260302T104907Z
LAST-MODIFIED:20260302T104907Z
UID:58781-1772438400-1772470800@communityexplore.com
SUMMARY:Embracing Renewal & Growth
DESCRIPTION:[vc_row][vc_column][vc_column_text css=””] \n  \nImmerse yourself in a rejuvenating (Certified) Sound Bath Immersion guided by the Worm Moon’s energy in preparation for the upcoming Spring Equinox.\n\nI shed the limitations of winter and embrace my personal growth\nI trust the process of renewal and allow myself to evolve at my own pace\nI release all negative thoughts\, emotions\, and limiting beliefs that no longer serve my highest good\n\nThis unique experience will begin with a guided “renewal + growth” meditation while honouring the full moon to open & balance the chakras with a special focus on the sacral & third eye. This will be achieved through a guided body scan\, light breathwork & visualization techniques to help settle the mind & body while slowly leaning into a sound immersion of soothing vibrations from gongs\, crystal singing bowls\, Himalayan singing bowls\, chimes\, drums & shakers with ambient nature sounds.\nYou will be invited into a deep state of inner & outer reflection and relaxation\, easing tension and stress from your mind & body. The therapeutic vibrations & different frequencies washing over you will gently alter brain waves and balance chakras\, providing deep relaxation\, reduced stress levels\, creative insight\, and a sense of lightness and peace\nActivate your parasympathetic nervous system\, unwind\, release tension\, and restore your mind and body. Experience the healing power of sound\, meditation\, & breathwork.\n\nDoors Open: 6:45pm\nInvestment: $35/person\n\n \n\nPlease contact Autumn Moon Holistic Wellness directly to sign up as pre-registration with payment is REQUIRED*\n \nITEMS REQUIRED TO BRING WITH YOU:\n1. Either a (yoga mat\, full body cushion such as a single size foldable camping/exercise pad\, outdoor patio lounger cushion\, or zero gravity chair).2. A comfy warm blanket3. Head pillow4. Any supportive blocks or cushions you would like5. Eye covering of your choice6. Water bottle7. It is best to dress in layers in case you get warm or cool.\nOPTIONAL:8. Journal & pen for reflection\n \nPOLICY:\nPRE-REGISTRATION WITH PAYMENT IS REQUIRED.NO REFUNDS OR CREDITS. IF YOU CANNOT ATTEND YOU MAY FIND SOMEONE TO TAKE YOUR PLACE *NOTICE IS REQUIRED PRIOR TO THE EVENT OF ANY CHANGES*IN THE EVENT OF POOR WEATHER OR DRIVING CONDITIONS\, FACILITATOR EMERGENCY OR ILLNESS\, OR ANY UNFORSEEN CIRCUMSTANCE- THE EVENT MAY NEED TO BE RESCHEDULED\n\n \n******NO EXPERIENCE NEEDED******\n  \nDate :\nMarch 6\, 2026 from 7pm to 8pm \nEvent location : \n385 Main St\, Elgin\, ON\, Canada\, K0G 1E0 \nContact :\nPlease call +1 613-888-4021 or e-mail: autumnmoonhw@outlook.com \n[/vc_column_text][/vc_column][/vc_row]
URL:https://communityexplore.com/westportontario/event-single/embracing-renewal-growth/
CATEGORIES:Westport Events,Westport Ontario
ATTACH;FMTTYPE=image/jpeg:https://communityexplore.com/westportontario/files/2026/03/Worm-Moon-Sound-Immersion.jpg
END:VEVENT
BEGIN:VEVENT
DTSTART;TZID=UTC:20260302T080000
DTEND;TZID=UTC:20260302T170000
DTSTAMP:20260419T233331
CREATED:20260302T105644Z
LAST-MODIFIED:20260302T105644Z
UID:58784-1772438400-1772470800@communityexplore.com
SUMMARY:Darts at the Legion
DESCRIPTION:[vc_row][vc_column][vc_column_text] \nThe Westport Legion will be hosting Darts\, every Sunday throughout the Fall/Winter. Registration starts at 12:45pm every Sunday\, with the games beginning at 1pm. Join a fun league of Darts players! \n  \nDate :\nMarch 8\, 2026 from 1pm to 3pm \nEvent location :\nThe Legion Branch 542 10099 County Road 10\,  \nWestport\, Ontario\, Canada \nContact :\nContact Penny at 613-273-5008 or send e-mail to denniej@econ.queensu.ca for more details. \n[/vc_column_text][/vc_column][/vc_row]
URL:https://communityexplore.com/westportontario/event-single/darts-at-the-legion-2/
CATEGORIES:Westport Events,Westport Ontario
ATTACH;FMTTYPE=image/jpeg:https://communityexplore.com/westportontario/files/2026/03/Darts-at-the-Legion.jpg
END:VEVENT
BEGIN:VEVENT
DTSTART;TZID=UTC:20260302T080000
DTEND;TZID=UTC:20260302T170000
DTSTAMP:20260419T233331
CREATED:20260302T110305Z
LAST-MODIFIED:20260302T110305Z
UID:58787-1772438400-1772470800@communityexplore.com
SUMMARY:Sunday Funday Chicken Pickin'Matinee Band
DESCRIPTION:[vc_row][vc_column][vc_column_text] \n  \nWho doesn’t love a little Sunday Funday Chicken Pickin’ Matinee with some good old Country music in the Country?! Telecaster master and long time Wings ‘n Tunes frontman star Shawn McCullough and his band including brother Dave “Fave” McCullough on bass and vocals and drummer Tom Uhryniw will be playing some of just that on select Sundays in the cooler months with special guests! Support a local cause as well with the 50/50 draws for charity! \nPerformance Dates: \nMarch 8th\, 2026\nMarch 22nd\, 2026\nApril 5th\, 2026\nApril 19th\, 2026\nMay 3rd\, 2026 \nAll performances are 1-4pm. Voluntary cover\, please be generous to our musicians! Come one\, come all and enjoy some downtime in bar on Sunday! \nSponsored by Tom Uhryniw and EXIT REALTY \n  \n  \nDate :\nMarch 8\, 2026 from 1pm to 4pm \nEvent location :\n2 Bedford St\nWestport\, Ontario K0G 1X0 Canada + \nContact :\nSeamus Cowan – (613) 273-3636 \n[/vc_column_text][/vc_column][/vc_row]
URL:https://communityexplore.com/westportontario/event-single/sunday-funday-chicken-pickinmatinee-band-3/
CATEGORIES:Westport Events,Westport Ontario
ATTACH;FMTTYPE=image/jpeg:https://communityexplore.com/westportontario/files/2026/03/Sunday-Funday-Chicken-PickinMatinee-Band.jpg
END:VEVENT
BEGIN:VEVENT
DTSTART;TZID=UTC:20260310T080000
DTEND;TZID=UTC:20260310T170000
DTSTAMP:20260419T233331
CREATED:20260310T104231Z
LAST-MODIFIED:20260310T104231Z
UID:58795-1773129600-1773162000@communityexplore.com
SUMMARY:Dean James Live for St. Patrick's Day
DESCRIPTION:[vc_row][vc_column][vc_column_text] \nCelebrate St. Patrick’s Day with a great night of music\, dancing\, and community spirit at Soldiers Memorial Hall in Sharbot Lake on Friday\, March 14\, starting at 8:00 PM. \nSILENT AUCTION WILL ONSITE AS WELL!!! \nHosted by Frontenac Masonic Lodge #621\, this fun-filled evening will feature live music by Dean James\, a cash bar\, and a light lunch included with admission. \n🎟 Tickets:\n• $20 in advance\n• $25 at the door \nPut on your green\, bring your friends\, and join us for a lively night of entertainment in support of our local Masonic Lodge and the philanthropic efforts. Everyone is welcome — we look forward to celebrating with you! \n  \nDate :\nMarch 14\, 2026 at 8pm \nEvent location :\nSoldiers Memorial Home \n1107 Garrett St.\, Sharbot Lake\, Ontario\, Westport\, Canada \nContact :\nFrontenac Masonic Lodge #621 \n[/vc_column_text][/vc_column][/vc_row]
URL:https://communityexplore.com/westportontario/event-single/dean-james-live-for-st-patricks-day/
CATEGORIES:Westport Events,Westport Ontario
ATTACH;FMTTYPE=image/jpeg:https://communityexplore.com/westportontario/files/2026/03/Dean-James-Live-for-St.-Patricks-Day.jpg
END:VEVENT
BEGIN:VEVENT
DTSTART;TZID=UTC:20260310T080000
DTEND;TZID=UTC:20260310T170000
DTSTAMP:20260419T233331
CREATED:20260310T104907Z
LAST-MODIFIED:20260310T104907Z
UID:58798-1773129600-1773162000@communityexplore.com
SUMMARY:Spaghetti Night at the Legion
DESCRIPTION:[vc_row][vc_column][vc_column_text] \nVisit the Royal Canadian Legion Upper Rideau Branch 542 every third Friday of the month for their Spaghetti Night. $15.00 per person gets you a spaghetti dinner\, which includes salad and Italian bread. All are welcome 5-6:30pm. \nCost: $15. \n  \nDate :\nMarch 20\, 2026 from 5 to 6:30pm \nEvent location :\nThe Legion Branch 542\n10099 County Road 10\nWestport\, Ontario K0G 1X0 Canada + \nContact :\nPlease call 613-273-3615 for more details. \n[/vc_column_text][/vc_column][/vc_row]
URL:https://communityexplore.com/westportontario/event-single/spaghetti-night-at-the-legion-2/
CATEGORIES:Westport Events,Westport Ontario
ATTACH;FMTTYPE=image/jpeg:https://communityexplore.com/westportontario/files/2026/03/Spaghetti-Night-at-the-Legion.jpg
END:VEVENT
BEGIN:VEVENT
DTSTART;TZID=UTC:20260310T080000
DTEND;TZID=UTC:20260310T170000
DTSTAMP:20260419T233331
CREATED:20260310T105758Z
LAST-MODIFIED:20260310T105758Z
UID:58805-1773129600-1773162000@communityexplore.com
SUMMARY:Seeday Saturday
DESCRIPTION:[vc_row][vc_column][vc_column_text]  \n \n  \nBake Sale Alert! We’re on the hunt for sweet treats for Seedy Saturday!Contact Nancy at 613.898.4687 if you’ve got the goods! \n  \nDate :\nMarch 21\, 2026 \nEvent location :\nWestport\, ON \nContact :\nContact Nancy at 613.898.4687 if you’ve got the goods! \n[/vc_column_text][/vc_column][/vc_row]
URL:https://communityexplore.com/westportontario/event-single/seeday-saturday/
CATEGORIES:Westport Events,Westport Ontario
ATTACH;FMTTYPE=image/jpeg:https://communityexplore.com/westportontario/files/2026/03/Seedy-Saturday.jpg
END:VEVENT
BEGIN:VEVENT
DTSTART;TZID=UTC:20260310T080000
DTEND;TZID=UTC:20260310T170000
DTSTAMP:20260419T233331
CREATED:20260310T110550Z
LAST-MODIFIED:20260310T110550Z
UID:58809-1773129600-1773162000@communityexplore.com
SUMMARY:Gather together series
DESCRIPTION:[vc_row][vc_column][vc_column_text] \nThe Westport Free Methodist Church will be hosting a monthly event: “Gather Together” on the last Saturday of each month. Doors will be open from 6:30-9:30pm and all adults 18+ are invited to this free event. Bring a friend with you or come on your own. \nCoffee\, Tea\, Soft Drinks and Snacks will be served. Play a game together or just find a quiet corner to read or write. Also big screen sports watch parties. \n  \n  \nDate :\nMarch 28\, 2026 at 6:30pm \nEvent location :\nWestport Free Methodist Church 85 Bedford St\,  \nWestport\, Ontario\, Canada \nContact :\nFor more info\, Please call Wendy at 613-540-3660 \n[/vc_column_text][/vc_column][/vc_row]
URL:https://communityexplore.com/westportontario/event-single/gather-together-series-2/
CATEGORIES:Westport Events,Westport Ontario
ATTACH;FMTTYPE=image/jpeg:https://communityexplore.com/westportontario/files/2026/03/Gather-Together-Series.jpg
END:VEVENT
BEGIN:VEVENT
DTSTART;TZID=UTC:20260310T080000
DTEND;TZID=UTC:20260310T170000
DTSTAMP:20260419T233331
CREATED:20260310T112219Z
LAST-MODIFIED:20260310T112219Z
UID:58813-1773129600-1773162000@communityexplore.com
SUMMARY:SoulFire! A Sunday Matinee Party
DESCRIPTION:[vc_row][vc_column][vc_column_text] \n  \nEnjoy a matinee holiday show of Pop Blues\, R&B and a Touch of Funky Soul with Soulfire on Sunday\, March 29\, 2026. Elbows up! 1-4pm NO Cover. 50/50 draw in support of the Westport Food Bank. \n \nHappy Holidays!\n \nA powerhouse cover band of seasoned pros\, SoulFire delivers a high-energy mix of rock\, blues\, pop\, and soul that keeps the dance floor packed from the first note to the last! With years of live performance experience under their belts\, each member brings top-tier musicianship and showmanship to the stage\, creating a fun\, infectious vibe that gets everyone moving.\nBased in Eastern Ontario\, SoulFire brings the party to clubs\, pubs\, festivals\, and community events across the region. Whether it’s a classic groove or a modern hit\, the band knows how to read the room\, ignite the party and make every event unforgettable!\n  \n  \nDate :\nMarch 29\, 2026 from 1 to 4pm \nEvent location :\nThe Cove Inn\, Westport\, ON \nContact :\nCall +1 613-797-7876 or soulfireontario@gmail.com for reservations! \n[/vc_column_text][/vc_column][/vc_row]
URL:https://communityexplore.com/westportontario/event-single/soulfire-a-sunday-matinee-party/
CATEGORIES:Westport Events,Westport Ontario
ATTACH;FMTTYPE=image/png:https://communityexplore.com/westportontario/files/2026/03/Soulfire.png
END:VEVENT
BEGIN:VEVENT
DTSTART;TZID=UTC:20260311T080000
DTEND;TZID=UTC:20260311T170000
DTSTAMP:20260419T233331
CREATED:20260311T081900Z
LAST-MODIFIED:20260311T081900Z
UID:58817-1773216000-1773248400@communityexplore.com
SUMMARY:Yoga at the Legion – Westport Ontario
DESCRIPTION:[vc_row][vc_column][vc_column_text css=””]  \nYoga & Essential Movement.  \nClass rhythm\nEach 6-week ($90)\, meeting once per week. Series runs only if minimum enrolment is reached by the registration deadline. \nNext 6-week series: May 5 – June 9\, 2026 \nNew students: $72 introductory rate\n(Class times and location remains consistent.) \nWeekly Schedule\nLocation: Westport Legion \nTuesdays\n5:15 PM — Vibrant Life: Hatha Yoga\n6:30 PM — Yin Yoga \nAll classes are all-levels and accessible.\nMust be able to get up and down off the floor. \nDrop-ins are welcome when space allows.\nDrop-in rate: $20\nPlease arrive early to complete a waiver if you’re new. \nPractical notes\n• Yoga props provided (blocks\, bolsters\, straps)\n• Series pricing and dates are sent by email \nEvent Coordinator Name: Cassie Love\nCoordinator Phone Number: 613-400-1792\nCoordinator Email: cassieyogalove@gmail.com \nEvent Cost: $20. \n  \nDate :\nMay 5\, 2026 \nEvent location :\nLegion\, Westport Ontario \nContact : \nEmail to Register: Cassieyogalove@gmail.com \n[/vc_column_text][/vc_column][/vc_row]
URL:https://communityexplore.com/westportontario/event-single/yoga-at-the-legion-westport-ontario/
CATEGORIES:Westport Events,Westport Ontario
ATTACH;FMTTYPE=image/jpeg:https://communityexplore.com/westportontario/files/2026/03/cassiephoto.jpg
END:VEVENT
BEGIN:VEVENT
DTSTART;TZID=UTC:20260311T080000
DTEND;TZID=UTC:20260311T170000
DTSTAMP:20260419T233331
CREATED:20260311T083140Z
LAST-MODIFIED:20260311T083140Z
UID:58820-1773216000-1773248400@communityexplore.com
SUMMARY:Grief and Bereavement Support Group Westport
DESCRIPTION:[vc_row][vc_column][vc_column_text css=””] \n  \nGrief and Bereavement sessions are being offered by Community Home Support Lanark County. \nPlease share broadly – – Pre-registration is encouraged but walk in’s welcome. \n  \n\nPerth –Monday\, March 23 from 5pm – 7pm Community Home Support Lanark County\, 40 Sunset Blvd\, Suite 100\nSmiths Falls– Friday\, March 13 & 27 from 1:30pm – 3:30pm RCHS Kilmarnock Room\, 2 Gould Street\, Smiths Falls\nMaberly – Monday\, March 30 from 10:00am – 12:00pm Maberly Community Hall\, 180 Maberly-Elphin Rd\nWestport – Wednesday\, March 18 & 25 from 10:00am – 12:00pm Country Roads Community Health Centre\nBeckwith – Monday\, March 24 from 10:00 – 12:00pm Brunton Community Hall 2022 Beckwith Park Ln\nSharbot Lake – Thursday\, March 26 10:00am – 12:00pm Sharbot Lake Medical Center\, 1005 Medical Center RD\nMerrickville – Tuesday\, March 17 & 31 from 1:30pm – 3:30pm RCHS\, 354 Read St\n\n  \n  \nEvent location :\nCountry Roads Medical Center in Westport \nContact :\nTo register with Brad\, please call 613.267.6400 or send e-mail to: bradd@chslc.ca \n[/vc_column_text][/vc_column][/vc_row]
URL:https://communityexplore.com/westportontario/event-single/grief-and-bereavement-support-group-westport/
CATEGORIES:Westport Events,Westport Ontario
ATTACH;FMTTYPE=image/png:https://communityexplore.com/westportontario/files/2026/03/Grief-and-Bereavement-Support-Group-Westport.png
END:VEVENT
BEGIN:VEVENT
DTSTART;TZID=UTC:20260330T080000
DTEND;TZID=UTC:20260330T170000
DTSTAMP:20260419T233331
CREATED:20260330T081800Z
LAST-MODIFIED:20260330T081800Z
UID:58826-1774857600-1774890000@communityexplore.com
SUMMARY:Yoga at the Legion – Westport Ontario
DESCRIPTION:[vc_row][vc_column][vc_column_text] \n\n\n\n\n\n\n\n\n\n  \nYoga & Essential Movement.  \nClass rhythm\nEach 6-week ($90)\, meeting once per week. Series runs only if minimum enrolment is reached by the registration deadline. \nNext 6-week series: April 7 – May 12 \nNew students: $72 introductory rate\n(Class times and location remains consistent.) \nWeekly Schedule\nLocation: Westport Legion \nTuesdays\n5:15 PM — Vibrant Life: Hatha Yoga\n6:30 PM — Yin Yoga \nAll classes are all-levels and accessible.\nMust be able to get up and down off the floor. \nDrop-ins are welcome when space allows.\nDrop-in rate: $20\nPlease arrive early to complete a waiver if you’re new. \nPractical notes\n• Yoga props provided (blocks\, bolsters\, straps)\n• Series pricing and dates are sent by email \nEvent Coordinator Name: Cassie Love\nCoordinator Phone Number: 613-400-1792\nCoordinator Email: cassieyogalove@gmail.com \nEvent Cost: $20. \n  \nDate :\nMay 5\, 2026 \nEvent location :\nLegion\, Westport Ontario \nContact : \nPlease visit: https://lovecassie.ca/westport-yoga/ or e-mail to Register: Cassieyogalove@gmail.com \n\n\n\n\n\n\n\n\n[/vc_column_text][/vc_column][/vc_row]
URL:https://communityexplore.com/westportontario/event-single/yoga-at-the-legion-westport-ontario-2/
CATEGORIES:Westport Events,Westport Ontario
END:VEVENT
BEGIN:VEVENT
DTSTART;TZID=UTC:20260409T080000
DTEND;TZID=UTC:20260409T170000
DTSTAMP:20260419T233331
CREATED:20260409T065015Z
LAST-MODIFIED:20260409T065015Z
UID:58914-1775721600-1775754000@communityexplore.com
SUMMARY:Grief & Bereavement Drop-In Support Group
DESCRIPTION:[vc_row][vc_column][vc_column_text css=””] \nGood afternoon\, \nGrief and Bereavement sessions are being offered by Community Home Support Lanark County.  \n\nWestport – Wednesday\, April 8 & 22 from 10:00am – 12:00pm Country Roads Community Health Centre.\n\nPlease share broadly – – Pre-registration is encouraged but walk in’s welcome\, register with Brad at 613-267-6400 or bradd@chslc.ca. \nBest regards\, \n  \nDate :\nWednesday\, April 8 & 22 from 10:00am – 12:00pm \nEvent location : \nCountry Roads Community Health Centre \nContact : \nBrad Dowdall \nCoordinator\, Volunteer Hospice Visiting Service \nOffice Hours: Monday to Thursday 8:30 am to 4 pm \nand Friday 8:30 am to 3:30 pm \nbradd@chslc.ca \nPhone 613-267-6400 ext. 28 \nFax: 613-267-3497 \nwww.chslc.ca and https://www.facebook.com/CHSLanarkCounty/ \n[/vc_column_text][/vc_column][/vc_row]
URL:https://communityexplore.com/westportontario/event-single/grief-bereavement-drop-in-support-group/
CATEGORIES:Westport Events,Westport Ontario
ATTACH;FMTTYPE=image/jpeg:https://communityexplore.com/westportontario/files/2026/04/Westport-Drop-In-April.jpg
END:VEVENT
BEGIN:VEVENT
DTSTART;TZID=UTC:20260409T080000
DTEND;TZID=UTC:20260409T170000
DTSTAMP:20260419T233331
CREATED:20260409T070449Z
LAST-MODIFIED:20260409T070449Z
UID:58918-1775721600-1775754000@communityexplore.com
SUMMARY:Westport Legion Chicken & Rib Meal
DESCRIPTION:[vc_row][vc_column][vc_column_text]  \nPlease join us for the Westport Legion Chicken & Rib Meal\, this Friday !  \nOnly $20\, tax included. \n  \n  \nDate :\nFriday\, April 10th from 5 to 6pm \nEvent location :\n10099 Perth Road\, Westport\, ON\, Canada\, K0G 1X0 \nContact :\nPlease call +1 613-273-3615 or visit www.westportlegion.ca \n[/vc_column_text][/vc_column][/vc_row]
URL:https://communityexplore.com/westportontario/event-single/westport-legion-chicken-rib-meal/
CATEGORIES:Westport Events,Westport Ontario
ATTACH;FMTTYPE=image/jpeg:https://communityexplore.com/westportontario/files/2026/04/Westport-Legion-Chicken-Rib-Meal.jpg
END:VEVENT
BEGIN:VEVENT
DTSTART;TZID=UTC:20260409T080000
DTEND;TZID=UTC:20260409T170000
DTSTAMP:20260419T233331
CREATED:20260409T083041Z
LAST-MODIFIED:20260409T083041Z
UID:58921-1775721600-1775754000@communityexplore.com
SUMMARY:Belly Dance Carnival Classes
DESCRIPTION:[vc_row][vc_column][vc_column_text] \nGabriela Carnovale decided to start teaching in the WTC Arena and she’ll be starting the first belly dance class here in Westport on Tuesday\, April 14th\, at 6pm. \nDrop-in: $20 or 8 classes: $140 \n  \nDate :\nTuesdays\, 6 to 7pm\, starting from April 14\, 2026 \nEvent location :\n37 Spring Street\, Westport\, ON \nContact :\nInstagram account: @gabrielabellydancer\nE-mail: abundancebellydance@gmail.com\nwww.gabrielabellydancer.com/register \n[/vc_column_text][/vc_column][/vc_row]
URL:https://communityexplore.com/westportontario/event-single/belly-dance-carnival-classes/
CATEGORIES:Entertainment,Westport Events,Westport Ontario
ATTACH;FMTTYPE=image/jpeg:https://communityexplore.com/westportontario/files/2026/04/Belly-dance.jpg
END:VEVENT
BEGIN:VEVENT
DTSTART;TZID=UTC:20260409T080000
DTEND;TZID=UTC:20260409T170000
DTSTAMP:20260419T233331
CREATED:20260409T084029Z
LAST-MODIFIED:20260409T084029Z
UID:58924-1775721600-1775754000@communityexplore.com
SUMMARY:Spring Market & Home Show
DESCRIPTION:[vc_row][vc_column][vc_column_text] \nWho is ready for Spring? WE ARE!! And Spring means the return of our fabulous Spring Market and Home Show. Saturday April 18th from 9am to 4pm in the WTC Communication Centre (Arena) on Spring Street. Come out and see your favourite vendors and get back into market mode. \n  \nDate :\nSaturday 18th\, 2026 from 1 to 4pm \nEvent location :\nWestport Market \nContact :\nTracey Phillips at villagepharmacy@hotmail.com \n[/vc_column_text][/vc_column][/vc_row]
URL:https://communityexplore.com/westportontario/event-single/spring-market-home-show/
CATEGORIES:Family & Kids,Markets & Fairs,Westport Events,Westport Ontario
ATTACH;FMTTYPE=image/jpeg:https://communityexplore.com/westportontario/files/2026/04/Spring-Market-Home-Show.jpg
END:VEVENT
BEGIN:VEVENT
DTSTART;TZID=UTC:20260409T080000
DTEND;TZID=UTC:20260409T170000
DTSTAMP:20260419T233331
CREATED:20260409T084633Z
LAST-MODIFIED:20260409T084633Z
UID:58927-1775721600-1775754000@communityexplore.com
SUMMARY:Some kind of Choir Spring Concert
DESCRIPTION:[vc_row][vc_column][vc_column_text] \nThe Westport Arts Council’s Some Kind of Choir Spring Concert will be performing on April 18th at 3:00 pm. This is always a fabulous event\, so be sure to mark it on your calendar! \n  \nDate :\nSaturday\, April 18th\, 2026 \nEvent location :\nKnox Presbyterian Church Concession St.Westport \nContact :\nWestport Senior Living – WSL at +1 613-840-7211 or e-mail: info@wslinfo.ca \n[/vc_column_text][/vc_column][/vc_row]
URL:https://communityexplore.com/westportontario/event-single/some-kind-of-choir-spring-concert/
CATEGORIES:Music & Concerts,Westport Events,Westport Ontario
ATTACH;FMTTYPE=image/jpeg:https://communityexplore.com/westportontario/files/2026/04/Some-kind-of-Choir.jpg
END:VEVENT
BEGIN:VEVENT
DTSTART;TZID=UTC:20260409T080000
DTEND;TZID=UTC:20260409T170000
DTSTAMP:20260419T233331
CREATED:20260409T085232Z
LAST-MODIFIED:20260409T085232Z
UID:58930-1775721600-1775754000@communityexplore.com
SUMMARY:25th Anniversary French Toast
DESCRIPTION:[vc_row][vc_column][vc_column_text] \n  \nThe Westport Lions’ Club is an amazing organization\, doing so much for our community! \nTheir transportation program providing rides to medical appointments is an invaluable service in our area. Make sure you come out to support their yearly breakfast fundraiser on April 19th at the Cove from 8:30 to 11:00. \n  \nDate :\nApril 19th\, 2026 from 8:30am to 11am \nEvent location :\nThe Cove Country Inn\nCorner of Bedford and Main Street\, Westport \nContact :\nWestport Senior Living – WSL at info@wslinfo.ca or +1 613-840-7211 \n[/vc_column_text][/vc_column][/vc_row]
URL:https://communityexplore.com/westportontario/event-single/25th-anniversary-french-toast/
CATEGORIES:Westport Events,Westport Ontario
ATTACH;FMTTYPE=image/jpeg:https://communityexplore.com/westportontario/files/2026/04/25th-Anniversary-French-Toast.jpg
END:VEVENT
BEGIN:VEVENT
DTSTART;TZID=UTC:20260409T080000
DTEND;TZID=UTC:20260409T170000
DTSTAMP:20260419T233331
CREATED:20260409T104100Z
LAST-MODIFIED:20260409T104100Z
UID:58933-1775721600-1775754000@communityexplore.com
SUMMARY:Spring classes with Fiona
DESCRIPTION:[vc_row][vc_column][vc_column_text css=””]  \nDo you want to learn to Crochet? Why not attend the Spring Classes with Fiona\, a teacher\, designer and Community organizer?\nMeet Fiona Stevenson\, a most fun and dynamic teacher\, here to share the joy of knitting and crochet with you! With a deep belief in every student’s potential\, Fiona not only builds skills but also infuses each seminar with enthusiasm\, laughter\, and a sense of accomplishment. Her classes are as much about fun as they are about learning\, helping students discover their inner fibre artist. With over 20 years of experience and a passion for all things yarn\, Fiona is now bringing her vibrant energy and creative spirit to new classes\, workshops\, and retreats.\nA knitwear pattern designer specializing in Canadian inspired designs\, Fiona has been creating unique patterns for over a decade. You can find her designs at Fiona Stevenson Designs on Ravelry.\nWith a passion for connecting members of the fibre community together – Fiona is President of the Ontario East Fibre Community with its signature event the Ontario East Fibre Fest\, Founder of the Sheepover Retreats\, and organizer of the Rideau Lakes Stitch Social (sponsored by Rideau Lakes Township through the Newboro CEC). \n  \nDate :\nSunday\, April 26th\, 2026 \nEvent location :\nNewboro\, ON \nContact :\nTo get in touch: thefionaknits@gmail.com\nInstagram: https://www.instagram.com/fiona.knits/\nFacebook: https://web.facebook.com/fionatheknitter/?_rdc=1&_rdr# \n[/vc_column_text][/vc_column][/vc_row]
URL:https://communityexplore.com/westportontario/event-single/spring-classes-with-fiona/
CATEGORIES:Westport Events,Westport Ontario
ATTACH;FMTTYPE=image/jpeg:https://communityexplore.com/westportontario/files/2026/04/Spring-Classes-with-Fiona.jpg
END:VEVENT
END:VCALENDAR