BEGIN:VCALENDAR
VERSION:2.0
PRODID:-//Westport - ECPv6.15.20//NONSGML v1.0//EN
CALSCALE:GREGORIAN
METHOD:PUBLISH
X-ORIGINAL-URL:https://communityexplore.com/westportontario
X-WR-CALDESC:Events for Westport
REFRESH-INTERVAL;VALUE=DURATION:PT1H
X-Robots-Tag:noindex
X-PUBLISHED-TTL:PT1H
BEGIN:VTIMEZONE
TZID:UTC
BEGIN:STANDARD
TZOFFSETFROM:+0000
TZOFFSETTO:+0000
TZNAME:UTC
DTSTART:20250101T000000
END:STANDARD
END:VTIMEZONE
BEGIN:VEVENT
DTSTART;TZID=UTC:20260310T080000
DTEND;TZID=UTC:20260310T170000
DTSTAMP:20260419T152920
CREATED:20260310T104231Z
LAST-MODIFIED:20260310T104231Z
UID:58795-1773129600-1773162000@communityexplore.com
SUMMARY:Dean James Live for St. Patrick's Day
DESCRIPTION:[vc_row][vc_column][vc_column_text] \nCelebrate St. Patrick’s Day with a great night of music\, dancing\, and community spirit at Soldiers Memorial Hall in Sharbot Lake on Friday\, March 14\, starting at 8:00 PM. \nSILENT AUCTION WILL ONSITE AS WELL!!! \nHosted by Frontenac Masonic Lodge #621\, this fun-filled evening will feature live music by Dean James\, a cash bar\, and a light lunch included with admission. \n🎟 Tickets:\n• $20 in advance\n• $25 at the door \nPut on your green\, bring your friends\, and join us for a lively night of entertainment in support of our local Masonic Lodge and the philanthropic efforts. Everyone is welcome — we look forward to celebrating with you! \n  \nDate :\nMarch 14\, 2026 at 8pm \nEvent location :\nSoldiers Memorial Home \n1107 Garrett St.\, Sharbot Lake\, Ontario\, Westport\, Canada \nContact :\nFrontenac Masonic Lodge #621 \n[/vc_column_text][/vc_column][/vc_row]
URL:https://communityexplore.com/westportontario/event-single/dean-james-live-for-st-patricks-day/
CATEGORIES:Westport Events,Westport Ontario
ATTACH;FMTTYPE=image/jpeg:https://communityexplore.com/westportontario/files/2026/03/Dean-James-Live-for-St.-Patricks-Day.jpg
END:VEVENT
BEGIN:VEVENT
DTSTART;TZID=UTC:20260310T080000
DTEND;TZID=UTC:20260310T170000
DTSTAMP:20260419T152920
CREATED:20260310T104907Z
LAST-MODIFIED:20260310T104907Z
UID:58798-1773129600-1773162000@communityexplore.com
SUMMARY:Spaghetti Night at the Legion
DESCRIPTION:[vc_row][vc_column][vc_column_text] \nVisit the Royal Canadian Legion Upper Rideau Branch 542 every third Friday of the month for their Spaghetti Night. $15.00 per person gets you a spaghetti dinner\, which includes salad and Italian bread. All are welcome 5-6:30pm. \nCost: $15. \n  \nDate :\nMarch 20\, 2026 from 5 to 6:30pm \nEvent location :\nThe Legion Branch 542\n10099 County Road 10\nWestport\, Ontario K0G 1X0 Canada + \nContact :\nPlease call 613-273-3615 for more details. \n[/vc_column_text][/vc_column][/vc_row]
URL:https://communityexplore.com/westportontario/event-single/spaghetti-night-at-the-legion-2/
CATEGORIES:Westport Events,Westport Ontario
ATTACH;FMTTYPE=image/jpeg:https://communityexplore.com/westportontario/files/2026/03/Spaghetti-Night-at-the-Legion.jpg
END:VEVENT
BEGIN:VEVENT
DTSTART;TZID=UTC:20260310T080000
DTEND;TZID=UTC:20260310T170000
DTSTAMP:20260419T152920
CREATED:20260310T105758Z
LAST-MODIFIED:20260310T105758Z
UID:58805-1773129600-1773162000@communityexplore.com
SUMMARY:Seeday Saturday
DESCRIPTION:[vc_row][vc_column][vc_column_text]  \n \n  \nBake Sale Alert! We’re on the hunt for sweet treats for Seedy Saturday!Contact Nancy at 613.898.4687 if you’ve got the goods! \n  \nDate :\nMarch 21\, 2026 \nEvent location :\nWestport\, ON \nContact :\nContact Nancy at 613.898.4687 if you’ve got the goods! \n[/vc_column_text][/vc_column][/vc_row]
URL:https://communityexplore.com/westportontario/event-single/seeday-saturday/
CATEGORIES:Westport Events,Westport Ontario
ATTACH;FMTTYPE=image/jpeg:https://communityexplore.com/westportontario/files/2026/03/Seedy-Saturday.jpg
END:VEVENT
BEGIN:VEVENT
DTSTART;TZID=UTC:20260310T080000
DTEND;TZID=UTC:20260310T170000
DTSTAMP:20260419T152920
CREATED:20260310T110550Z
LAST-MODIFIED:20260310T110550Z
UID:58809-1773129600-1773162000@communityexplore.com
SUMMARY:Gather together series
DESCRIPTION:[vc_row][vc_column][vc_column_text] \nThe Westport Free Methodist Church will be hosting a monthly event: “Gather Together” on the last Saturday of each month. Doors will be open from 6:30-9:30pm and all adults 18+ are invited to this free event. Bring a friend with you or come on your own. \nCoffee\, Tea\, Soft Drinks and Snacks will be served. Play a game together or just find a quiet corner to read or write. Also big screen sports watch parties. \n  \n  \nDate :\nMarch 28\, 2026 at 6:30pm \nEvent location :\nWestport Free Methodist Church 85 Bedford St\,  \nWestport\, Ontario\, Canada \nContact :\nFor more info\, Please call Wendy at 613-540-3660 \n[/vc_column_text][/vc_column][/vc_row]
URL:https://communityexplore.com/westportontario/event-single/gather-together-series-2/
CATEGORIES:Westport Events,Westport Ontario
ATTACH;FMTTYPE=image/jpeg:https://communityexplore.com/westportontario/files/2026/03/Gather-Together-Series.jpg
END:VEVENT
BEGIN:VEVENT
DTSTART;TZID=UTC:20260310T080000
DTEND;TZID=UTC:20260310T170000
DTSTAMP:20260419T152920
CREATED:20260310T112219Z
LAST-MODIFIED:20260310T112219Z
UID:58813-1773129600-1773162000@communityexplore.com
SUMMARY:SoulFire! A Sunday Matinee Party
DESCRIPTION:[vc_row][vc_column][vc_column_text] \n  \nEnjoy a matinee holiday show of Pop Blues\, R&B and a Touch of Funky Soul with Soulfire on Sunday\, March 29\, 2026. Elbows up! 1-4pm NO Cover. 50/50 draw in support of the Westport Food Bank. \n \nHappy Holidays!\n \nA powerhouse cover band of seasoned pros\, SoulFire delivers a high-energy mix of rock\, blues\, pop\, and soul that keeps the dance floor packed from the first note to the last! With years of live performance experience under their belts\, each member brings top-tier musicianship and showmanship to the stage\, creating a fun\, infectious vibe that gets everyone moving.\nBased in Eastern Ontario\, SoulFire brings the party to clubs\, pubs\, festivals\, and community events across the region. Whether it’s a classic groove or a modern hit\, the band knows how to read the room\, ignite the party and make every event unforgettable!\n  \n  \nDate :\nMarch 29\, 2026 from 1 to 4pm \nEvent location :\nThe Cove Inn\, Westport\, ON \nContact :\nCall +1 613-797-7876 or soulfireontario@gmail.com for reservations! \n[/vc_column_text][/vc_column][/vc_row]
URL:https://communityexplore.com/westportontario/event-single/soulfire-a-sunday-matinee-party/
CATEGORIES:Westport Events,Westport Ontario
ATTACH;FMTTYPE=image/png:https://communityexplore.com/westportontario/files/2026/03/Soulfire.png
END:VEVENT
END:VCALENDAR