BEGIN:VCALENDAR
VERSION:2.0
PRODID:-//Perth Ontario - ECPv6.15.20//NONSGML v1.0//EN
CALSCALE:GREGORIAN
METHOD:PUBLISH
X-ORIGINAL-URL:https://communityexplore.com/perthontario
X-WR-CALDESC:Events for Perth Ontario
REFRESH-INTERVAL;VALUE=DURATION:PT1H
X-Robots-Tag:noindex
X-PUBLISHED-TTL:PT1H
BEGIN:VTIMEZONE
TZID:UTC
BEGIN:STANDARD
TZOFFSETFROM:+0000
TZOFFSETTO:+0000
TZNAME:UTC
DTSTART:20250101T000000
END:STANDARD
END:VTIMEZONE
BEGIN:VEVENT
DTSTART;TZID=UTC:20260409T080000
DTEND;TZID=UTC:20260409T170000
DTSTAMP:20260419T230858
CREATED:20260409T133509Z
LAST-MODIFIED:20260409T133509Z
UID:57346-1775721600-1775754000@communityexplore.com
SUMMARY:Greek Night: a Tangled Garden 2.0 event!
DESCRIPTION:[vc_row][vc_column][vc_column_text] \nGreek Night is a Tangled Garden 2.0 event!  \n  \nDate :\nWednesday\, April 15th\, 2026 from 4 to 9pm \nEvent location :\n40 Foster Street\, Perth\, ON \nContact :\nFor further details\, please call: +1 613-201-7733 or e-mail: tangledgardenwestport@gmail.com \n[/vc_column_text][/vc_column][/vc_row]
URL:https://communityexplore.com/perthontario/event/greek-night/
CATEGORIES:Perth Ontario,Perth Ontario Events
ATTACH;FMTTYPE=image/jpeg:https://communityexplore.com/perthontario/files/2026/04/Greek-Night.jpg
END:VEVENT
BEGIN:VEVENT
DTSTART;TZID=UTC:20260409T080000
DTEND;TZID=UTC:20260409T170000
DTSTAMP:20260419T230858
CREATED:20260409T134142Z
LAST-MODIFIED:20260409T134142Z
UID:57349-1775721600-1775754000@communityexplore.com
SUMMARY:Registration Open for Perth & District Indoor Pool Summer Day Camp!
DESCRIPTION:[vc_row][vc_column][vc_column_text] \n\n \nSummer camp season is almost here  Registration is opening soon for two great camps at the Perth & District Indoor Pool!\n\n\nSummer Day Camp (Ages 4–10)\n Nine weeks of swimming\, games\, outdoor play\, and more\n A fun\, active way to spend the summer with friends\n\n\nSuperhero in Training Camp (Ages 9–13)\n Learn lifesaving skills\, first aid\, and water safety through games and challenges\n Build confidence\, earn awards\, and develop leadership skills\n Opportunities to support younger campers at Day Camp\n\n\n Registration opens Wednesday\, April 15 at 8 a.m.\n Register at https://www.perth.ca/poolprograms or call 613-267-5302\n\n\nSpots fill quickly\, so be ready to register when it opens! Visit https://app.amilia.com/store/en/town_of_perth/shop/programs to explore programs and set up your account.\n\n \n\nDate :\nApril 15\, 2026 \nEvent location :\nPerth\, ON \nContact :\nPlease call call 613-267-5302 \n\n[/vc_column_text][/vc_column][/vc_row]
URL:https://communityexplore.com/perthontario/event/registration-open-for-perth-district-indoor-pool-summer-day-camp/
CATEGORIES:Perth Ontario,Perth Ontario Events
ATTACH;FMTTYPE=image/jpeg:https://communityexplore.com/perthontario/files/2026/04/Perth-District-Indoor-Pool-Summer-Day-Camp.jpg
END:VEVENT
BEGIN:VEVENT
DTSTART;TZID=UTC:20260410T080000
DTEND;TZID=UTC:20260410T170000
DTSTAMP:20260419T230858
CREATED:20260410T071812Z
LAST-MODIFIED:20260410T071812Z
UID:57353-1775808000-1775840400@communityexplore.com
SUMMARY:J.S Bach's long walk in the Snow
DESCRIPTION:[vc_row][vc_column][vc_column_text] \n  \nIf you enjoy Tom Allen’s CBC  Music Radio broadcast every afternoon you will know what a fantastic host he is. With his stories about the music he brings each selection into closer view in a way that is fresh\, entertaining\, and interesting. His low-key good-natured style endears him to his audiences and his fans will definitely want to hear him in person. If you haven’t had the pleasure yet of tuning in\, don’t miss the opportunity to meet Tom and his musical friends as they visit Perth on their Canadian tour. \nIn Tom’s own words this is what the performance is all about… \nAt 20\, and in his first job\, JS Bach got into such trouble that the only thing he could do was to walk away. JS Bach’s Long Walk in the Snow takes you along on that journey: a 400 km odyssey to a glittering northern port city with street fights\, big business\, insight\, fulfillment\, the father figure he didn’t know he needed and\, quite possibly\, love.  A wonderful cast of musicians including mandolinist\, guitarist and singer/songwriter Joey Wright\, singer Patricia O’Callaghan\, multi-instrumentalist Pete Gemmell\, harpist Lori Gemmell and master storyteller Tom Allen provide glorious music – both familiar and gripping – allowing JS Bach’s Long Walk in the Snow to bring that troubled young man in from the cold. \n  \nDate :\nApril 23\, 2026 from 7:30 pm – 9:30 pm \nEvent location :\n504 Kenyon Rd\, Perth\, ON \nContact : \nPlease call Barbara Guthrie at 6132640338\nE-mail: bguthrie@ripnet.com\n[/vc_column_text][/vc_column][/vc_row]
URL:https://communityexplore.com/perthontario/event/j-s-bachs-long-walk-in-the-snow/
CATEGORIES:Perth Ontario,Perth Ontario Events
ATTACH;FMTTYPE=image/jpeg:https://communityexplore.com/perthontario/files/2026/04/J.S-Bachs-long-walk-in-the-Snow.jpg
END:VEVENT
BEGIN:VEVENT
DTSTART;TZID=UTC:20260410T080000
DTEND;TZID=UTC:20260410T170000
DTSTAMP:20260419T230858
CREATED:20260410T072836Z
LAST-MODIFIED:20260410T072836Z
UID:57356-1775808000-1775840400@communityexplore.com
SUMMARY:Shaw's dance Spring P.A Day Camp
DESCRIPTION:[vc_row][vc_column][vc_column_text] \n  \nShaw’s Dance presents their SPRING P.A. DAY CAMP\, Friday April 24\, 2026 from 8am to 4pm (early drop-off and late pick-up available). \nThe day will include dance\, crafts and fun.  \n  \nDate :\nApril 24\, 2026 from 8am to 4pm \nEvent location :\n2483 Drummond Concession 7\, Perth\, ON\, Canada\, Ontario \nContact : \nPlease call +1 613-812-7149\, or e-mail: Danceatshaws@gmail.com[/vc_column_text][/vc_column][/vc_row]
URL:https://communityexplore.com/perthontario/event/shaws-dance-spring-p-a-day-camp/
CATEGORIES:Perth Ontario,Perth Ontario Events
ATTACH;FMTTYPE=image/jpeg:https://communityexplore.com/perthontario/files/2026/04/Shaws-Dance.jpg
END:VEVENT
BEGIN:VEVENT
DTSTART;TZID=UTC:20260410T080000
DTEND;TZID=UTC:20260410T170000
DTSTAMP:20260419T230858
CREATED:20260410T073559Z
LAST-MODIFIED:20260410T073559Z
UID:57359-1775808000-1775840400@communityexplore.com
SUMMARY:Home Alone Safety for Kids
DESCRIPTION:[vc_row][vc_column][vc_column_text] \nLooking for a practical option for PD Days? The Safety Tree Home Alone Safety Course helps kids build confidence and safety skills — and offers real benefits for families.Why families find this course helpful:– Reduces or eliminates PD Day childcare costs– Cuts back on babysitting and after-school care expenses– Avoids the need for full-day camps on school breaks– Offers more flexibility for work schedules– Supports long-term savings as children gain safe independenceThis one-day course provides skills that last well beyond a single PD Day — helping kids stay safe at home while giving families peace of mind.Home Alone Safety Course – Perth & District Indoor Pool$79.25 \n Register at: https://safetytreecanada.com/home-alone-safety-for-kids…/ \n  \nDate :\nFriday\, April 24 | 9 a.m.–4 p.m. \nEvent location :\n80 Gore Street East\, Perth\, ON\, Canada\, K7H 1H9 \nContact :\nPlease call Town of Perth for more infos: +1 613-267-3311 or e-mail: contactus@perth.ca \n[/vc_column_text][/vc_column][/vc_row]
URL:https://communityexplore.com/perthontario/event/home-alone-safety-for-kids/
CATEGORIES:Perth Ontario,Perth Ontario Events
ATTACH;FMTTYPE=image/jpeg:https://communityexplore.com/perthontario/files/2026/04/Home-Alone-Safety-for-Kids.jpg
END:VEVENT
BEGIN:VEVENT
DTSTART;TZID=UTC:20260413T080000
DTEND;TZID=UTC:20260413T170000
DTSTAMP:20260419T230858
CREATED:20260413T105116Z
LAST-MODIFIED:20260413T105116Z
UID:57367-1776067200-1776099600@communityexplore.com
SUMMARY:Festival of the Maples - 50th Anniversary
DESCRIPTION:[vc_row][vc_column][vc_column_text] \nCelebrate 50 years of the Festival of the Maples at the Plaid Dance! All proceeds support The Hospice Hub — and Maximilian Restaurant is proud to keep you dancing with snacks – European-style Pretzels with Maple Mustard and Maple-Glazed Meatballs. \nWarning: excessive dancing may lead to excessive snacking… we support both. \n  \nDate :\nSaturday\, April 25\, 2026 \nEvent location :\nThe Crystal Palace\n31 Basin Lane\, Perth ON \nContact :\nMaximilian Restaurant at +1 613-267-2536 or e-mail: maximilianrestaurantperth@gmail.com \n[/vc_column_text][/vc_column][/vc_row]
URL:https://communityexplore.com/perthontario/event/festival-of-the-maples-50th-anniversary/
CATEGORIES:Perth Ontario,Perth Ontario Events
ATTACH;FMTTYPE=image/jpeg:https://communityexplore.com/perthontario/files/2026/04/Festival-of-the-Maples.jpg
END:VEVENT
BEGIN:VEVENT
DTSTART;TZID=UTC:20260413T080000
DTEND;TZID=UTC:20260413T170000
DTSTAMP:20260419T230858
CREATED:20260413T105611Z
LAST-MODIFIED:20260413T105611Z
UID:57370-1776067200-1776099600@communityexplore.com
SUMMARY:Kelly's Annual Daffodil Campaign
DESCRIPTION:[vc_row][vc_column][vc_column_text] \nIt’s back ***Daffodil CampaignThe daffodil symbolizes a powerful and personal meaning; hopefulness in the fight against cancer. We have been active in supporting the daffodil campaign for many years now by supplying potted daffodils\, for your purchase\, in support of the Perth & Smiths Falls District Hospital chemotherapy unit. Each year this campaign has grown from selling 60 pots in the first year to selling over 400 pots last year. Thank you to all who have supported this fundraising campaign. We hope to continue to grow\, year after year.Daffodils are $15.99 each.Order at the link provided\, starting March 1st\, for pick up starting April 1st till April 25th You can order online athttps://kellysflowers.ca/product-category/daffodil-campaign/ \n  \n  \nDate :\nSaturday\, April 25\, 2026 \nEvent location :\n63 Gore Street East \, Perth\, ON\, Canada\, Ontario K7H 1H8 \nContact :\nCall us at 613-267-7065 \n[/vc_column_text][/vc_column][/vc_row]
URL:https://communityexplore.com/perthontario/event/kellys-annual-daffodil-campaign/
CATEGORIES:Perth Ontario,Perth Ontario Events
ATTACH;FMTTYPE=image/jpeg:https://communityexplore.com/perthontario/files/2026/04/Kellys-Annual-Daffodil-Campaign.jpg
END:VEVENT
BEGIN:VEVENT
DTSTART;TZID=UTC:20260413T080000
DTEND;TZID=UTC:20260413T170000
DTSTAMP:20260419T230858
CREATED:20260413T110131Z
LAST-MODIFIED:20260413T110131Z
UID:57373-1776067200-1776099600@communityexplore.com
SUMMARY:Maplefest Plaid Dance
DESCRIPTION:[vc_row][vc_column][vc_column_text css=””] \n  \nCelebrate 50 years of the Festival of the Maples at the Maplefest Plaid Party in support of The Hospice Hub!  Pull our your plaid\, gather your friends\, and get ready for a high-energy night of dancing and community spirit at The Crystal Palace in Perth on Saturday\, April 25\, 2026.  Doors open at 7pm and live entertainment kicks off at 8pm. \nAll proceeds support The Hospice Hub’s essential programs and services\, including Day Hospice\, Home Support\, Grief and Bereavement Support Groups\, and much more – serving individuals and families in the Perth & Smiths Falls District Hospital catchment area.  \nDance the night away with The Open Road Band\, a dynamic 5-piece cover band based right here in Perth\, Ont.  Blending rock\, country\, and everything in between\, their setlist spans crowd favourties from the ’50s to today.  With an infectious energy that keeps the dance floor packed\, The Open Road Band turns every venue into a party you won’t want to miss! \nGet your tickets today at Ticketsplease.ca $35 per ticket (plus fees) \nThis is a 19+ event  \n  \n  \nDate :\nSaturday\, April 25\, 2026 from 7pm to 11:55pm \nEvent location :\nCrystal Palace\, 31 Basin Lane\, Perth \nContact :\nPlease call \nLesley Renwick at 6136270974 or e-mail: fundraising@thehospicehub.ca\n[/vc_column_text][/vc_column][/vc_row]
URL:https://communityexplore.com/perthontario/event/maplefest-plaid-dance/
CATEGORIES:Perth Ontario,Perth Ontario Events
ATTACH;FMTTYPE=image/jpeg:https://communityexplore.com/perthontario/files/2026/04/Maplefest-Plaid-Party.jpg
END:VEVENT
END:VCALENDAR