BEGIN:VCALENDAR
VERSION:2.0
PRODID:-//Perth Ontario - ECPv6.15.20//NONSGML v1.0//EN
CALSCALE:GREGORIAN
METHOD:PUBLISH
X-WR-CALNAME:Perth Ontario
X-ORIGINAL-URL:https://communityexplore.com/perthontario
X-WR-CALDESC:Events for Perth Ontario
REFRESH-INTERVAL;VALUE=DURATION:PT1H
X-Robots-Tag:noindex
X-PUBLISHED-TTL:PT1H
BEGIN:VTIMEZONE
TZID:UTC
BEGIN:STANDARD
TZOFFSETFROM:+0000
TZOFFSETTO:+0000
TZNAME:UTC
DTSTART:20250101T000000
END:STANDARD
END:VTIMEZONE
BEGIN:VEVENT
DTSTART;TZID=UTC:20260302T080000
DTEND;TZID=UTC:20260302T170000
DTSTAMP:20260419T164147
CREATED:20260302T140746Z
LAST-MODIFIED:20260302T140746Z
UID:57261-1772438400-1772470800@communityexplore.com
SUMMARY:St.Paddy's Day Party
DESCRIPTION:[vc_row][vc_column][vc_column_text] \n  \nThe Civitan Club of Perth invites you to a ST. PADDY’S DAY PARTY at the Hall\, taking place Saturday\, March 14\, 2026 from 7pm to midnight.  \nCome out and dance the night away to some great Irish music along with some country and rock’n’roll\, or request your favourite song. Late evening light lunch\, dance the night away with DJ Riley Restoule. Photo booth in front of your favourite Irish Pub\, let’s have some fun.  \nAdvance tickets $20\, or $25 at the door. Call Jane M. Scott: 613-200-4140 and available at Ann’s Salon\, 26a Wilson St. West\, Perth. \n  \nDate : \nMarch 14\, 2026 from 7:00 pm – 11:55 pm \nEvent location :\n6787 County Road #43\, Perth \nContact : \nJane M. Scott – 613-200-4140\n[/vc_column_text][/vc_column][/vc_row]
URL:https://communityexplore.com/perthontario/event/st-paddys-day-party/
CATEGORIES:Perth Ontario,Perth Ontario Events
ATTACH;FMTTYPE=image/jpeg:https://communityexplore.com/perthontario/files/2026/03/St.Paddys-Day-Party.jpg
END:VEVENT
BEGIN:VEVENT
DTSTART;TZID=UTC:20260302T080000
DTEND;TZID=UTC:20260302T170000
DTSTAMP:20260419T164147
CREATED:20260302T114303Z
LAST-MODIFIED:20260302T114303Z
UID:57258-1772438400-1772470800@communityexplore.com
SUMMARY:Civitan Monthly music Jamboree
DESCRIPTION:[vc_row][vc_column][vc_column_text css=””] \nThe Civitan Club of Perth hosts a monthly MUSIC JAMBOREE\, the 2nd Sunday every month at the Hall (except for August). Doors open at 12 noon\, music happens from 1-5pm\, followed by dinner at 5pm. Cost is $10 for dancing\, $20 for dance and dinner. Musicians pay $10 for a meal.  \nUpcoming dates: \nSunday\, April 12\, 2026 1:00 pm – 5:00 pm\nSunday\, May 10\, 2026 1:00 pm – 5:00 pm\nSunday\, June 14\, 2026 1:00 pm – 5:00 pm\nSunday\, July 12\, 2026 1:00 pm – 5:00 pm\nSunday\, September 13\, 2026 1:00 pm – 5:00 pm\n  \n  \nDate :\nMarch 8\, 2026 from 1pm to 5pm \nEvent location :\n6787 County Road 43\, Perth\, ON\, Canada\, K7H 3C7 \nContact :\nCivitan Club of Perth at (613) 267-2181 or e-mail: civitanclubofperth@gmail.com \n[/vc_column_text][/vc_column][/vc_row]
URL:https://communityexplore.com/perthontario/event/civitan-monthly-music-jamboree/
CATEGORIES:Perth Ontario,Perth Ontario Events
ATTACH;FMTTYPE=image/jpeg:https://communityexplore.com/perthontario/files/2026/03/Music-Jamboree.jpg
END:VEVENT
BEGIN:VEVENT
DTSTART;TZID=UTC:20260302T080000
DTEND;TZID=UTC:20260302T170000
DTSTAMP:20260419T164147
CREATED:20260302T113024Z
LAST-MODIFIED:20260302T113024Z
UID:57255-1772438400-1772470800@communityexplore.com
SUMMARY:Drag me to Perth
DESCRIPTION:[vc_row][vc_column][vc_column_text css=””] \nGather in Perth and Eden Moore present DRAG ME TO PERTH! Hosted by Eden Moore\, featuring BJ Stroker\, Karma K and Ruby Foxglove. Two unforgettable drag events! Saturday\, March 7th\, from 5:30-7:30pm – an all ages drag show\, followed by 8:30-10:30pm – an 18+ evening show. Tickets are $20 online\, or $25 at the door. \nTickets available via www.gatherinperth.com  \n  \n  \nDate :\nMarch 7\, 2026 from 8:30pm to 10:30pm \nEvent location :\n71 Gore St E\, Perth\, ON\, Canada\, K7H 1H8 \nContact : \nGather in Perth at 613-264-8282 or e-mail: gatherinperth@gmail.com\n[/vc_column_text][/vc_column][/vc_row]
URL:https://communityexplore.com/perthontario/event/drag-me-to-perth/
CATEGORIES:Perth Ontario,Perth Ontario Events
ATTACH;FMTTYPE=image/jpeg:https://communityexplore.com/perthontario/files/2026/03/Drag-me-to-Perth.jpg
END:VEVENT
BEGIN:VEVENT
DTSTART;TZID=UTC:20260302T080000
DTEND;TZID=UTC:20260302T170000
DTSTAMP:20260419T164147
CREATED:20260302T112400Z
LAST-MODIFIED:20260302T112400Z
UID:57252-1772438400-1772470800@communityexplore.com
SUMMARY:Broadway Workout in Perth
DESCRIPTION:[vc_row][vc_column][vc_column_text css=””] \n  \nBROADWAY WORKOUT is the fun way to work out and it’s returning to Perth this winter! It’s taking place Thursdays\, from 7-8pm at St. Paul’s United Church (25 Gore St. West).  \nBroadway Workout is a dance based fitness class for theatre enthusiasts of any skill level. It’s great for mental and physical agility and a ton of fun! In a one-hour class you’ll work up a sweat\, learning original routines to different popular Broadway songs. It’s not about getting it perfect\, it’s about having fun and moving your body.  \nYou can see the season set list and sign up at: https://broadwayworkout.ca/product/thursdays-perth  \n  \nDate :\nMarch 5\,12\,19\, 2026 from 7pm to 8pm \nEvent location :\nGathering Room\, St. Paul’s United Church\n25 Gore St W. Perth\, ON K7H 2L9 \nContact : \nLaura Allardyce at 613-302-5443 or e-mail: broadwayworkout@gmail.com\n[/vc_column_text][/vc_column][/vc_row]
URL:https://communityexplore.com/perthontario/event/broadway-workout-in-perth/
CATEGORIES:Perth Ontario,Perth Ontario Events
ATTACH;FMTTYPE=image/png:https://communityexplore.com/perthontario/files/2026/03/Broadway-Workout.png
END:VEVENT
BEGIN:VEVENT
DTSTART;TZID=UTC:20260302T080000
DTEND;TZID=UTC:20260302T170000
DTSTAMP:20260419T164147
CREATED:20260302T111637Z
LAST-MODIFIED:20260302T111637Z
UID:57249-1772438400-1772470800@communityexplore.com
SUMMARY:Community Mending and Men(d)torship
DESCRIPTION:[vc_row][vc_column][vc_column_text] \nJoin us at Brooke Valley School for mending night every Wednesday evening 6-9pm.  \n  \nDate :\nMarch 4\,11\,18\,25\, 2026 \nEvent location :\nPerth\, ON \nContact :\nBrooke Valley School at admin@brookevalleyschool.com \n[/vc_column_text][/vc_column][/vc_row]
URL:https://communityexplore.com/perthontario/event/community-mending-and-mendtorship/
CATEGORIES:Perth Ontario,Perth Ontario Events
ATTACH;FMTTYPE=image/jpeg:https://communityexplore.com/perthontario/files/2026/03/Community-Mending-and-Mendtorship.jpg
END:VEVENT
BEGIN:VEVENT
DTSTART;TZID=UTC:20260219T080000
DTEND;TZID=UTC:20260219T170000
DTSTAMP:20260419T164147
CREATED:20260219T143430Z
LAST-MODIFIED:20260219T143430Z
UID:57243-1771488000-1771520400@communityexplore.com
SUMMARY:Guided Snowshoe Hike at Perth Wildlife Reserve
DESCRIPTION:[vc_row][vc_column][vc_column_text] \n  \n\n\nKick off RVCA’s 60th anniversary outdoor adventure challenge with a guided snowshoe hike! All ages & abilities welcome. Snowshoes available. \n\n\n\n\nMore Details: \nExplore Perth Wildlife Reserve’s trails by snowshoe! We’ll begin with a quick snowshoeing tutorial for beginners\, and snowshoes will be available to borrow by request – please add the appropriate snowshoes by weight to your registration at checkout. The hike will cover about 2.5 km on flat terrain and will take between 1 and 1.5 hours to complete\, including stops to talk about the site along the way. Some parts of the trail will be groomed. Dogs are not allowed on the trails. Light refreshments will be available after the hike. \nThis event will serve as the launch of our 60th Anniversary Outdoor Adventure Challenge\, part of our anniversary celebrations taking place throughout 2026. This inclusive challenge encourages participants to visit all 11 conservation areas by year’s end. Get outside and explore our sites to the best of your ability! Adventurers can even send away for a set of free water bottle stickers featuring each of the sites. \nWe’ll be hosting more public hikes throughout the year\, so follow us on Eventbrite or watch our social media channels for details. \n\n\nHighlights: \n\n\n2 hours\nall ages\nIn person\nDoors at 9:45 AM\n\n\n  \nDate :\nSaturday\, Feb 28 from 10 am to 12 pm EST \nEvent location :\nPerth Wildlife Reserve\, 100 Wild Life Road\,  \nPerth\, ON K7H 0G9 \nContact :\nRideau Valley Conservation Authority at +1 613-692-3571 or info@rvca.ca \n[/vc_column_text][/vc_column][/vc_row]
URL:https://communityexplore.com/perthontario/event/guided-snowshoe-hike-at-perth-wildlife-reserve/
CATEGORIES:Perth Ontario,Perth Ontario Events
ATTACH;FMTTYPE=image/jpeg:https://communityexplore.com/perthontario/files/2026/02/Guided-Snowshoe-Hike-at-Perth-Wildlife-Reserve.jpg
END:VEVENT
BEGIN:VEVENT
DTSTART;TZID=UTC:20260218T080000
DTEND;TZID=UTC:20260218T170000
DTSTAMP:20260419T164147
CREATED:20260218T083217Z
LAST-MODIFIED:20260218T083217Z
UID:57236-1771401600-1771434000@communityexplore.com
SUMMARY:Ben Caplan in Concert
DESCRIPTION:[vc_row][vc_column][vc_column_text]  \nOakfield Rugby Park presents BEN CAPLAN IN CONCERT\, Friday\, February 27\, 2026 at 7pm.  Tickets are $35 + HST and fees\, and are available at ticketsplease.com.  \n  \nDate :\nFebruary 27\, 2026 at 7pm \nEvent location :\n2587 Concession 2\, Drummond North Elmsley \nContact :\nPlease call 613-485-6434 or e-mail: info@oakfieldpark.ca \nOakfield Rugby Park: 2587 Conc. 2\, Drummond North Elmsley\, 613-200-7247\, www.oakfieldpark.ca[/vc_column_text][/vc_column][/vc_row]
URL:https://communityexplore.com/perthontario/event/ben-caplan-in-concert/
CATEGORIES:Perth Ontario,Perth Ontario Events
ATTACH;FMTTYPE=image/jpeg:https://communityexplore.com/perthontario/files/2026/02/Ben-Caplain-in-Concert.jpg
END:VEVENT
BEGIN:VEVENT
DTSTART;TZID=UTC:20260218T080000
DTEND;TZID=UTC:20260218T170000
DTSTAMP:20260419T164147
CREATED:20260218T080958Z
LAST-MODIFIED:20260218T080958Z
UID:57233-1771401600-1771434000@communityexplore.com
SUMMARY:Senior's Social Gathering
DESCRIPTION:[vc_row][vc_column][vc_column_text] \n  \n\nCalling all Perth residents aged 55+ — you’re invited!\n\n\nJoin us for an Active & Social Afternoon on Tuesday\, February 25\, from 1–3 p.m. at the Multi-Purpose Room at the Perth & District Indoor Pool (3 Sunset Blvd).\n\n\nThis wellness-focused gathering blends gentle movement with meaningful connection. Enjoy a 30-minute chair exercise class led by Lori\, learn about seniors’ programs at the Perth Pool\, and hear from Sam at Community Home Support. Stay afterward for refreshments\, conversation\, and door prizes.\n\n\nSpace is limited. Learn more and reserve your spot at Engage.Perth.ca/Seniors-Gatherings .\n\n\nWe hope you’ll join us for an afternoon of movement\, connection\, and community!\n\n  \nDate :\nFebruary 25\, 2026 from 1 to 3pm \nEvent location :\nMulti-Purpose Room at the Perth & District Indoor Pool (3 Sunset Blvd) \nContact :\nContact Ashley Hannigan at 613-267-3311 ext. 2243 or ahannigan@perth.ca. \n[/vc_column_text][/vc_column][/vc_row]
URL:https://communityexplore.com/perthontario/event/seniors-social-gathering/
CATEGORIES:Perth Ontario,Perth Ontario Events
ATTACH;FMTTYPE=image/jpeg:https://communityexplore.com/perthontario/files/2026/02/Seniors-Social-Gathering.jpg
END:VEVENT
BEGIN:VEVENT
DTSTART;TZID=UTC:20260218T080000
DTEND;TZID=UTC:20260218T170000
DTSTAMP:20260419T164147
CREATED:20260218T080418Z
LAST-MODIFIED:20260218T080418Z
UID:57230-1771401600-1771434000@communityexplore.com
SUMMARY:Los Desperados: Canada's premier tribute to the Eagles
DESCRIPTION:[vc_row][vc_column][vc_column_text] \n  \nSaturday\, February 21st at 8pm (doors open at 7pm) LOS DESPERADOS: Canada’s premier tribute to THE EAGLES! Live in concert at Farrell Hall\, playing their greatest hits. Brought to you by Dream Rock Promotions\, advance tickets are $39\, or $44 at the door. Tickets can be purchased through www.ticketsplease.ca   \nThis powerhouse 6-piece lineup recreate the magic of The Eagles with stunning precision and heart. Playing all their greatest hits like Hotel California\, Take It Easy\, Desperado\, Lyin’ Eyes and Life in the Fast Lane\, performed with the lush harmonies and guitar work that made the Eagles legendary. \nEvery note is delivered with deep respect for the originals\, creating a live experience that feels both nostalgic and fresh. Cash bar\, this is a 19+ event.  \n  \nDate : \nFebruary 21\, 2026 at 8:00 pm \nEvent location :\n186 Gore St. East\, Perth \nContact : \nDream Rock Promotions – 613-485-6434\nE-mail: contactus@perth.ca \n[/vc_column_text][/vc_column][/vc_row]
URL:https://communityexplore.com/perthontario/event/los-desperados-canadas-premier-tribute-to-the-eagles/
CATEGORIES:Perth Ontario,Perth Ontario Events
ATTACH;FMTTYPE=image/jpeg:https://communityexplore.com/perthontario/files/2026/02/Los-Desperados.jpg
END:VEVENT
BEGIN:VEVENT
DTSTART;TZID=UTC:20260218T080000
DTEND;TZID=UTC:20260218T170000
DTSTAMP:20260419T164147
CREATED:20260218T075333Z
LAST-MODIFIED:20260218T075333Z
UID:57227-1771401600-1771434000@communityexplore.com
SUMMARY:Frankenstein - the monster and the music
DESCRIPTION:[vc_row][vc_column][vc_column_text] \n  \nThe 1931 classic horror movie FRANKENSTEIN – with a new score composed by MARK BAILEY\, orchestra conducted by Rick Rangno. Performed live February 21\, 2026 at 7:30pm. Takes place at St. Paul’s United Church\, 25 Gore St. West\, Perth\, ON.  \nThe Music Team at St. Paul’s United Church in Perth is sponsoring an exciting musical event: Perth musician and composer Mark Bailey has written a music score to accompany the 1931 classic horror movie\, Frankenstein. The movie will be seen on the large screen in St. Paul’s accompanied by a live orchestra playing Mark’s new score\, with Rick Rangno conducting. \nMark Bailey is a professional musician and has been a published composer for many years\, but this is a particularly major accomplishment! Bailey’s music captures all the excitement and foreshadowing of the movie but also sheds a fresh light on the character of Frankenstein. His music enhances the movie. Both movie buffs and music lovers will be intrigued.  \nThe performance will be at 7:30pm. Tickets are $25 and available at Tickets Please: www.ticketsplease.ca  \n  \nDate : \nFebruary 21\, 2026 at 7:30 pm \nEvent location :\n25 Gore St. West\, Perth \nContact :\nPlease call (613) 267-3311 or e-mail: contactus@perth.ca \n[/vc_column_text][/vc_column][/vc_row]
URL:https://communityexplore.com/perthontario/event/frankenstein-the-monster-and-the-music/
CATEGORIES:Perth Ontario,Perth Ontario Events
ATTACH;FMTTYPE=image/jpeg:https://communityexplore.com/perthontario/files/2026/02/Frankenstein-the-monster-and-the-music.jpg
END:VEVENT
END:VCALENDAR